BEGIN:VCALENDAR
VERSION:2.0
PRODID:-//Plone.org//NONSGML plone.app.event//EN
X-WR-TIMEZONE:Europe/Berlin
BEGIN:VEVENT
SUMMARY:Mush
DTSTART;TZID=Europe/Berlin:20061027T210000
DTSTAMP:20260421T221922Z
UID:2c4589ef69cc4594ac74a75afd86e487@zmi.spielboden.at
CREATED:20120822T144755Z
LAST-MODIFIED:20210809T123848Z
URL:https://zmi.spielboden.at/Plone/veranstaltungen/2006/10_oktober/2006-1
 0-27-21-00-mush
END:VEVENT
BEGIN:VTIMEZONE
TZID:Europe/Berlin
X-LIC-LOCATION:Europe/Berlin
BEGIN:DAYLIGHT
DTSTART:20060326T030000
TZNAME:CEST
TZOFFSETFROM:+0100
TZOFFSETTO:+0200
END:DAYLIGHT
END:VTIMEZONE
END:VCALENDAR
