BEGIN:VCALENDAR
VERSION:2.0
PRODID:-//Plone.org//NONSGML plone.app.event//EN
X-WR-TIMEZONE:Europe/Berlin
BEGIN:VEVENT
SUMMARY:arteFlamenco
DTSTART;TZID=Europe/Berlin:20061020T203000
DTSTAMP:20260426T025553Z
UID:60fe2114c49a4b0eb8ea8679c0bba216@zmi.spielboden.at
CREATED:20120822T144742Z
LAST-MODIFIED:20210809T123845Z
URL:https://zmi.spielboden.at/Plone/veranstaltungen/2006/10_oktober/2006-1
 0-20-20-30-arteflamenco
END:VEVENT
BEGIN:VTIMEZONE
TZID:Europe/Berlin
X-LIC-LOCATION:Europe/Berlin
BEGIN:DAYLIGHT
DTSTART:20060326T030000
TZNAME:CEST
TZOFFSETFROM:+0100
TZOFFSETTO:+0200
END:DAYLIGHT
END:VTIMEZONE
END:VCALENDAR
