BEGIN:VCALENDAR
VERSION:2.0
PRODID:-//Plone.org//NONSGML plone.app.event//EN
X-WR-TIMEZONE:Europe/Berlin
BEGIN:VEVENT
SUMMARY:Dokumentation - Rito y Geografia del Cante
DTSTART;TZID=Europe/Berlin:20061020T190000
DTSTAMP:20260421T185710Z
UID:60ccefdf43af407ca848867f1bdb779d@zmi.spielboden.at
CREATED:20120822T144759Z
LAST-MODIFIED:20120910T114120Z
URL:https://zmi.spielboden.at/Plone/veranstaltungen/2006/10_oktober/2006-1
 0-20-19-00-dokumentation-rito-y-geografia-del-cante
END:VEVENT
BEGIN:VTIMEZONE
TZID:Europe/Berlin
X-LIC-LOCATION:Europe/Berlin
BEGIN:DAYLIGHT
DTSTART:20060326T030000
TZNAME:CEST
TZOFFSETFROM:+0100
TZOFFSETTO:+0200
END:DAYLIGHT
END:VTIMEZONE
END:VCALENDAR
