BEGIN:VCALENDAR
VERSION:2.0
PRODID:-//Plone.org//NONSGML plone.app.event//EN
X-WR-TIMEZONE:Europe/Berlin
BEGIN:VEVENT
SUMMARY:Ohne Gewicht
DTSTART;TZID=Europe/Berlin:20061018T203000
DTSTAMP:20260421T185546Z
UID:00c5c21f75cc4ab88e480c28752e920e@zmi.spielboden.at
CREATED:20120822T144745Z
DESCRIPTION:Filmreihe „Psychische Krankheiten“
LAST-MODIFIED:20210809T123846Z
URL:https://zmi.spielboden.at/Plone/veranstaltungen/2006/10_oktober/2006-1
 0-18-20-30-ohne-gewicht
END:VEVENT
BEGIN:VTIMEZONE
TZID:Europe/Berlin
X-LIC-LOCATION:Europe/Berlin
BEGIN:DAYLIGHT
DTSTART:20060326T030000
TZNAME:CEST
TZOFFSETFROM:+0100
TZOFFSETTO:+0200
END:DAYLIGHT
END:VTIMEZONE
END:VCALENDAR
