BEGIN:VCALENDAR
VERSION:2.0
PRODID:-//Plone.org//NONSGML plone.app.event//EN
X-WR-TIMEZONE:Europe/Berlin
BEGIN:VEVENT
SUMMARY:Christoph Ransmayr
DTSTART;TZID=Europe/Berlin:20061018T203000
DTSTAMP:20260421T202258Z
UID:00737cf7e57e432aa64f2508a0901a2a@zmi.spielboden.at
CREATED:20120822T144748Z
DESCRIPTION:Buchpräsentation „Der fliegende Berg“\, Roman (S. Fischer
  Verlag)
LAST-MODIFIED:20210809T123847Z
URL:https://zmi.spielboden.at/Plone/veranstaltungen/2006/10_oktober/2006-1
 0-18-20-30-christoph-ransmayr
END:VEVENT
BEGIN:VTIMEZONE
TZID:Europe/Berlin
X-LIC-LOCATION:Europe/Berlin
BEGIN:DAYLIGHT
DTSTART:20060326T030000
TZNAME:CEST
TZOFFSETFROM:+0100
TZOFFSETTO:+0200
END:DAYLIGHT
END:VTIMEZONE
END:VCALENDAR
