BEGIN:VCALENDAR
VERSION:2.0
PRODID:-//Plone.org//NONSGML plone.app.event//EN
X-WR-TIMEZONE:Europe/Berlin
BEGIN:VEVENT
SUMMARY:arteFlamenco
DTSTART;TZID=Europe/Berlin:20061015T130000
DTSTAMP:20260426T025418Z
UID:0b4ab4c012434bcba35c99d8b4b75a69@zmi.spielboden.at
CREATED:20120822T144744Z
LAST-MODIFIED:20210809T123846Z
URL:https://zmi.spielboden.at/Plone/veranstaltungen/2006/10_oktober/2006-1
 0-15-13-00-arteflamenco
END:VEVENT
BEGIN:VTIMEZONE
TZID:Europe/Berlin
X-LIC-LOCATION:Europe/Berlin
BEGIN:DAYLIGHT
DTSTART:20060326T030000
TZNAME:CEST
TZOFFSETFROM:+0100
TZOFFSETTO:+0200
END:DAYLIGHT
END:VTIMEZONE
END:VCALENDAR
