BEGIN:VCALENDAR
VERSION:2.0
PRODID:-//Plone.org//NONSGML plone.app.event//EN
X-WR-TIMEZONE:Europe/Berlin
BEGIN:VEVENT
SUMMARY:SÜDOST RICHTUNG MEKKA und EXILE FAMILY MOVIE
DTSTART;TZID=Europe/Berlin:20061014T203000
DTSTAMP:20260421T175238Z
UID:4f26d9fd7f7b461aa4831707abbf6dc0@zmi.spielboden.at
CREATED:20120822T144756Z
LAST-MODIFIED:20210809T123848Z
URL:https://zmi.spielboden.at/Plone/veranstaltungen/2006/10_oktober/2006-1
 0-14-20-30-suedost-richtung-mekka-und-exile-family-movie
END:VEVENT
BEGIN:VTIMEZONE
TZID:Europe/Berlin
X-LIC-LOCATION:Europe/Berlin
BEGIN:DAYLIGHT
DTSTART:20060326T030000
TZNAME:CEST
TZOFFSETFROM:+0100
TZOFFSETTO:+0200
END:DAYLIGHT
END:VTIMEZONE
END:VCALENDAR
