BEGIN:VCALENDAR
VERSION:2.0
PRODID:-//Plone.org//NONSGML plone.app.event//EN
X-WR-TIMEZONE:Europe/Berlin
BEGIN:VEVENT
SUMMARY:Der ganz Kleine Zirkus - Zirkus auf dem Dachboden
DTSTART;TZID=Europe/Berlin:20061014T150000
DTSTAMP:20260421T155708Z
UID:5603cc12c5c4485a8b2a0c9c3715db11@zmi.spielboden.at
CREATED:20120822T144744Z
LAST-MODIFIED:20120910T114117Z
URL:https://zmi.spielboden.at/Plone/veranstaltungen/2006/10_oktober/2006-1
 0-14-15-00-der-ganz-kleine-zirkus-zirkus-auf-dem-dachboden
END:VEVENT
BEGIN:VTIMEZONE
TZID:Europe/Berlin
X-LIC-LOCATION:Europe/Berlin
BEGIN:DAYLIGHT
DTSTART:20060326T030000
TZNAME:CEST
TZOFFSETFROM:+0100
TZOFFSETTO:+0200
END:DAYLIGHT
END:VTIMEZONE
END:VCALENDAR
