BEGIN:VCALENDAR
VERSION:2.0
PRODID:-//Plone.org//NONSGML plone.app.event//EN
X-WR-TIMEZONE:Europe/Berlin
BEGIN:VEVENT
SUMMARY:Raum 4070
DTSTART;TZID=Europe/Berlin:20061013T203000
DTSTAMP:20260421T202953Z
UID:b09a26d6f6e1403f8d214117c9d1e7f4@zmi.spielboden.at
CREATED:20120822T144745Z
DESCRIPTION:Filmreihe „Psychische Krankheiten“
LAST-MODIFIED:20210809T123846Z
URL:https://zmi.spielboden.at/Plone/veranstaltungen/2006/10_oktober/2006-1
 0-13-20-30-raum-4070
END:VEVENT
BEGIN:VTIMEZONE
TZID:Europe/Berlin
X-LIC-LOCATION:Europe/Berlin
BEGIN:DAYLIGHT
DTSTART:20060326T030000
TZNAME:CEST
TZOFFSETFROM:+0100
TZOFFSETTO:+0200
END:DAYLIGHT
END:VTIMEZONE
END:VCALENDAR
