BEGIN:VCALENDAR
VERSION:2.0
PRODID:-//Plone.org//NONSGML plone.app.event//EN
X-WR-TIMEZONE:Europe/Berlin
BEGIN:VEVENT
SUMMARY:Alf Poier – Kill Eulenspiegel
DTSTART;TZID=Europe/Berlin:20061011T203000
DTSTAMP:20260421T175230Z
UID:339a792d5663464f9b2697986cd1e445@zmi.spielboden.at
CREATED:20120822T144743Z
DESCRIPTION:die Offenbarung eines Clowns.\nEmpfohlen ab 16 Jahren!\n
LAST-MODIFIED:20210809T123845Z
URL:https://zmi.spielboden.at/Plone/veranstaltungen/2006/10_oktober/2006-1
 0-11-20-30-alf-poier-2013-kill-eulenspiegel
END:VEVENT
BEGIN:VTIMEZONE
TZID:Europe/Berlin
X-LIC-LOCATION:Europe/Berlin
BEGIN:DAYLIGHT
DTSTART:20060326T030000
TZNAME:CEST
TZOFFSETFROM:+0100
TZOFFSETTO:+0200
END:DAYLIGHT
END:VTIMEZONE
END:VCALENDAR
