BEGIN:VCALENDAR
VERSION:2.0
PRODID:-//Plone.org//NONSGML plone.app.event//EN
X-WR-TIMEZONE:Europe/Berlin
BEGIN:VEVENT
SUMMARY:60/70er Party mit DJ Ernesto
DTSTART;TZID=Europe/Berlin:20061007T210000
DTSTAMP:20260425T223226Z
UID:7bda0760263a4cfbb93081900357eccc@zmi.spielboden.at
CREATED:20120822T144757Z
LAST-MODIFIED:20120910T114119Z
URL:https://zmi.spielboden.at/Plone/veranstaltungen/2006/10_oktober/2006-1
 0-07-21-00-60-70er-party-mit-dj-ernesto
END:VEVENT
BEGIN:VTIMEZONE
TZID:Europe/Berlin
X-LIC-LOCATION:Europe/Berlin
BEGIN:DAYLIGHT
DTSTART:20060326T030000
TZNAME:CEST
TZOFFSETFROM:+0100
TZOFFSETTO:+0200
END:DAYLIGHT
END:VTIMEZONE
END:VCALENDAR
