BEGIN:VCALENDAR
VERSION:2.0
PRODID:-//Plone.org//NONSGML plone.app.event//EN
X-WR-TIMEZONE:Europe/Berlin
BEGIN:VEVENT
SUMMARY:RatzFatz – Schwarze Katz
DTSTART;TZID=Europe/Berlin:20061007T150000
DTSTAMP:20260423T102715Z
UID:3f7de40bc6ee42738c292c658215585f@zmi.spielboden.at
CREATED:20120822T144743Z
DESCRIPTION:Mitmachkonzert ab 4 Jahren
LAST-MODIFIED:20210809T123846Z
URL:https://zmi.spielboden.at/Plone/veranstaltungen/2006/10_oktober/2006-1
 0-07-15-00-ratzfatz-2013-schwarze-katz
END:VEVENT
BEGIN:VTIMEZONE
TZID:Europe/Berlin
X-LIC-LOCATION:Europe/Berlin
BEGIN:DAYLIGHT
DTSTART:20060326T030000
TZNAME:CEST
TZOFFSETFROM:+0100
TZOFFSETTO:+0200
END:DAYLIGHT
END:VTIMEZONE
END:VCALENDAR
