BEGIN:VCALENDAR
VERSION:2.0
PRODID:-//Plone.org//NONSGML plone.app.event//EN
X-WR-TIMEZONE:Europe/Berlin
BEGIN:VEVENT
SUMMARY:SÜDOST RICHTUNG MEKKA und EXILE FAMILY MOVIE
DTSTART;TZID=Europe/Berlin:20061006T203000
DTSTAMP:20260421T192620Z
UID:7b1185d138754e0c9a59a3c71a9e592d@zmi.spielboden.at
CREATED:20120822T144755Z
LAST-MODIFIED:20210809T123848Z
URL:https://zmi.spielboden.at/Plone/veranstaltungen/2006/10_oktober/2006-1
 0-06-20-30-suedost-richtung-mekka-und-exile-family-movie
END:VEVENT
BEGIN:VTIMEZONE
TZID:Europe/Berlin
X-LIC-LOCATION:Europe/Berlin
BEGIN:DAYLIGHT
DTSTART:20060326T030000
TZNAME:CEST
TZOFFSETFROM:+0100
TZOFFSETTO:+0200
END:DAYLIGHT
END:VTIMEZONE
END:VCALENDAR
