BEGIN:VCALENDAR
VERSION:2.0
PRODID:-//Plone.org//NONSGML plone.app.event//EN
X-WR-TIMEZONE:Europe/Berlin
BEGIN:VEVENT
SUMMARY:The Hermitage Dwellers - Ein Leben für die Hermitage
DTSTART;TZID=Europe/Berlin:20061004T203000
DTSTAMP:20260421T185710Z
UID:9e93be1d8e2f471e9d5e0f07ede555f5@zmi.spielboden.at
CREATED:20120822T144753Z
LAST-MODIFIED:20210809T123848Z
URL:https://zmi.spielboden.at/Plone/veranstaltungen/2006/10_oktober/2006-1
 0-04-20-30-the-hermitage-dwellers-ein-leben-fuer-die-hermitage
END:VEVENT
BEGIN:VTIMEZONE
TZID:Europe/Berlin
X-LIC-LOCATION:Europe/Berlin
BEGIN:DAYLIGHT
DTSTART:20060326T030000
TZNAME:CEST
TZOFFSETFROM:+0100
TZOFFSETTO:+0200
END:DAYLIGHT
END:VTIMEZONE
END:VCALENDAR
