BEGIN:VCALENDAR
VERSION:2.0
PRODID:-//Plone.org//NONSGML plone.app.event//EN
X-WR-TIMEZONE:Europe/Berlin
BEGIN:VEVENT
SUMMARY:proFILE Jazzfestival - Städteprofil - Berlin in Dornbirn
DTSTART;TZID=Europe/Berlin:20061001T200000
DTSTAMP:20260421T185631Z
UID:a1d31fb5418f4f2e8f42f7375b1bbf13@zmi.spielboden.at
CREATED:20120822T144721Z
LAST-MODIFIED:20210809T123840Z
URL:https://zmi.spielboden.at/Plone/veranstaltungen/2006/09_september/2006
 -10-01-20-00-profile-jazzfestival-staedteprofil-berlin-in-dornbirn
END:VEVENT
BEGIN:VTIMEZONE
TZID:Europe/Berlin
X-LIC-LOCATION:Europe/Berlin
BEGIN:DAYLIGHT
DTSTART:20060326T030000
TZNAME:CEST
TZOFFSETFROM:+0100
TZOFFSETTO:+0200
END:DAYLIGHT
END:VTIMEZONE
END:VCALENDAR
