BEGIN:VCALENDAR
VERSION:2.0
PRODID:-//Plone.org//NONSGML plone.app.event//EN
X-WR-TIMEZONE:Europe/Berlin
BEGIN:VEVENT
SUMMARY:proFILE Jazzfestival - Arkady Shilkloper
DTSTART;TZID=Europe/Berlin:20060930T200000
DTSTAMP:20260421T205617Z
UID:b46b6ced73514a10b5741488eafa33a9@zmi.spielboden.at
CREATED:20120822T144721Z
LAST-MODIFIED:20210809T123840Z
URL:https://zmi.spielboden.at/Plone/veranstaltungen/2006/09_september/2006
 -09-30-20-00-profile-jazzfestival-arkady-shilkloper
END:VEVENT
BEGIN:VTIMEZONE
TZID:Europe/Berlin
X-LIC-LOCATION:Europe/Berlin
BEGIN:DAYLIGHT
DTSTART:20060326T030000
TZNAME:CEST
TZOFFSETFROM:+0100
TZOFFSETTO:+0200
END:DAYLIGHT
END:VTIMEZONE
END:VCALENDAR
