BEGIN:VCALENDAR
VERSION:2.0
PRODID:-//Plone.org//NONSGML plone.app.event//EN
X-WR-TIMEZONE:Europe/Berlin
BEGIN:VEVENT
SUMMARY:Dokumentarfilm – Romane Apsa
DTSTART;TZID=Europe/Berlin:20060929T203000
DTSTAMP:20260425T222047Z
UID:9defb0aa205d43b29a311320bd02db10@zmi.spielboden.at
CREATED:20120822T144734Z
LAST-MODIFIED:20210809T123842Z
URL:https://zmi.spielboden.at/Plone/veranstaltungen/2006/09_september/2006
 -09-29-20-30-dokumentarfilm-2013-romane-apsa
END:VEVENT
BEGIN:VTIMEZONE
TZID:Europe/Berlin
X-LIC-LOCATION:Europe/Berlin
BEGIN:DAYLIGHT
DTSTART:20060326T030000
TZNAME:CEST
TZOFFSETFROM:+0100
TZOFFSETTO:+0200
END:DAYLIGHT
END:VTIMEZONE
END:VCALENDAR
