BEGIN:VCALENDAR
VERSION:2.0
PRODID:-//Plone.org//NONSGML plone.app.event//EN
X-WR-TIMEZONE:Europe/Berlin
BEGIN:VEVENT
SUMMARY:proFILE Jazzfestival - Harry Sokal
DTSTART;TZID=Europe/Berlin:20060929T200000
DTSTAMP:20260421T192602Z
UID:aa9d67aff0954578bca3044ae4eb8da9@zmi.spielboden.at
CREATED:20120822T144719Z
LAST-MODIFIED:20210809T123839Z
URL:https://zmi.spielboden.at/Plone/veranstaltungen/2006/09_september/2006
 -09-29-20-00-profile-jazzfestival-harry-sokal
END:VEVENT
BEGIN:VTIMEZONE
TZID:Europe/Berlin
X-LIC-LOCATION:Europe/Berlin
BEGIN:DAYLIGHT
DTSTART:20060326T030000
TZNAME:CEST
TZOFFSETFROM:+0100
TZOFFSETTO:+0200
END:DAYLIGHT
END:VTIMEZONE
END:VCALENDAR
