BEGIN:VCALENDAR
VERSION:2.0
PRODID:-//Plone.org//NONSGML plone.app.event//EN
X-WR-TIMEZONE:Europe/Berlin
BEGIN:VEVENT
SUMMARY:Mike Supancic mit „Radio Supancic“
DTSTART;TZID=Europe/Berlin:20060927T203000
DTSTAMP:20260421T185536Z
UID:a961728e7745479b90fb73b2dbdb669d@zmi.spielboden.at
CREATED:20120822T144739Z
LAST-MODIFIED:20210809T123843Z
URL:https://zmi.spielboden.at/Plone/veranstaltungen/2006/09_september/2006
 -09-27-20-30-mike-supancic-mit-201eradio-supancic201c
END:VEVENT
BEGIN:VTIMEZONE
TZID:Europe/Berlin
X-LIC-LOCATION:Europe/Berlin
BEGIN:DAYLIGHT
DTSTART:20060326T030000
TZNAME:CEST
TZOFFSETFROM:+0100
TZOFFSETTO:+0200
END:DAYLIGHT
END:VTIMEZONE
END:VCALENDAR
