BEGIN:VCALENDAR
VERSION:2.0
PRODID:-//Plone.org//NONSGML plone.app.event//EN
X-WR-TIMEZONE:Europe/Berlin
BEGIN:VEVENT
SUMMARY:Clownduo Cocó - Kurzauftritte
DTSTART;TZID=Europe/Berlin:20060924T133000
DTSTAMP:20260421T172933Z
UID:34c89b83fee94089b69b26f729036f68@zmi.spielboden.at
CREATED:20120822T144731Z
DESCRIPTION:vor und nach Kasperletheater
LAST-MODIFIED:20210809T123842Z
URL:https://zmi.spielboden.at/Plone/veranstaltungen/2006/09_september/2006
 -09-24-13-30-clownduo-coco-kurzauftritte
END:VEVENT
BEGIN:VTIMEZONE
TZID:Europe/Berlin
X-LIC-LOCATION:Europe/Berlin
BEGIN:DAYLIGHT
DTSTART:20060326T030000
TZNAME:CEST
TZOFFSETFROM:+0100
TZOFFSETTO:+0200
END:DAYLIGHT
END:VTIMEZONE
END:VCALENDAR
