BEGIN:VCALENDAR
VERSION:2.0
PRODID:-//Plone.org//NONSGML plone.app.event//EN
X-WR-TIMEZONE:Europe/Berlin
BEGIN:VEVENT
SUMMARY:Mauracher - Matt Boroff - Son Of The Velvet Rat
DTSTART;TZID=Europe/Berlin:20060923T203000
DTSTAMP:20260421T205735Z
UID:506c7967b9194888867615ed13cc300e@zmi.spielboden.at
CREATED:20120822T144738Z
DESCRIPTION:Ein Abend – drei Konzerte. Wir feiern und Mauracher\, Matt B
 oroff & Son Of The Velvet Rat feiern mit! 
LAST-MODIFIED:20210809T123843Z
URL:https://zmi.spielboden.at/Plone/veranstaltungen/2006/09_september/2006
 -09-23-20-30-mauracher-matt-boroff-son-of-the-velvet-rat
END:VEVENT
BEGIN:VTIMEZONE
TZID:Europe/Berlin
X-LIC-LOCATION:Europe/Berlin
BEGIN:DAYLIGHT
DTSTART:20060326T030000
TZNAME:CEST
TZOFFSETFROM:+0100
TZOFFSETTO:+0200
END:DAYLIGHT
END:VTIMEZONE
END:VCALENDAR
