BEGIN:VCALENDAR
VERSION:2.0
PRODID:-//Plone.org//NONSGML plone.app.event//EN
X-WR-TIMEZONE:Europe/Berlin
BEGIN:VEVENT
SUMMARY:Clownduo Cocó - Die Juke Box
DTSTART;TZID=Europe/Berlin:20060923T140000
DTSTAMP:20260421T223530Z
UID:09c114d131dd4d228140b62438de69a8@zmi.spielboden.at
CREATED:20120822T144730Z
LAST-MODIFIED:20210809T123841Z
URL:https://zmi.spielboden.at/Plone/veranstaltungen/2006/09_september/2006
 -09-23-14-00-clownduo-coco-die-juke-box
END:VEVENT
BEGIN:VTIMEZONE
TZID:Europe/Berlin
X-LIC-LOCATION:Europe/Berlin
BEGIN:DAYLIGHT
DTSTART:20060326T030000
TZNAME:CEST
TZOFFSETFROM:+0100
TZOFFSETTO:+0200
END:DAYLIGHT
END:VTIMEZONE
END:VCALENDAR
