BEGIN:VCALENDAR
VERSION:2.0
PRODID:-//Plone.org//NONSGML plone.app.event//EN
X-WR-TIMEZONE:Europe/Berlin
BEGIN:VEVENT
SUMMARY:Dokumentarfilm – China Blue
DTSTART;TZID=Europe/Berlin:20060922T203000
DTSTAMP:20260421T202152Z
UID:fd336a4516bb4070bfae5863616ed500@zmi.spielboden.at
CREATED:20120822T144729Z
LAST-MODIFIED:20210809T123841Z
URL:https://zmi.spielboden.at/Plone/veranstaltungen/2006/09_september/2006
 -09-22-20-30-dokumentarfilm-2013-china-blue
END:VEVENT
BEGIN:VTIMEZONE
TZID:Europe/Berlin
X-LIC-LOCATION:Europe/Berlin
BEGIN:DAYLIGHT
DTSTART:20060326T030000
TZNAME:CEST
TZOFFSETFROM:+0100
TZOFFSETTO:+0200
END:DAYLIGHT
END:VTIMEZONE
END:VCALENDAR
