BEGIN:VCALENDAR
VERSION:2.0
PRODID:-//Plone.org//NONSGML plone.app.event//EN
X-WR-TIMEZONE:Europe/Berlin
BEGIN:VEVENT
SUMMARY:The Beautiful Kantine Band
DTSTART;TZID=Europe/Berlin:20060920T210000
DTSTAMP:20260421T185532Z
UID:54315f2ce4d949b8bcfbb610dd5e2e71@zmi.spielboden.at
CREATED:20120822T144728Z
LAST-MODIFIED:20210809T123841Z
URL:https://zmi.spielboden.at/Plone/veranstaltungen/2006/09_september/2006
 -09-20-21-00-the-beautiful-kantine-band
END:VEVENT
BEGIN:VTIMEZONE
TZID:Europe/Berlin
X-LIC-LOCATION:Europe/Berlin
BEGIN:DAYLIGHT
DTSTART:20060326T030000
TZNAME:CEST
TZOFFSETFROM:+0100
TZOFFSETTO:+0200
END:DAYLIGHT
END:VTIMEZONE
END:VCALENDAR
