BEGIN:VCALENDAR
VERSION:2.0
PRODID:-//Plone.org//NONSGML plone.app.event//EN
X-WR-TIMEZONE:Europe/Berlin
BEGIN:VEVENT
SUMMARY:Monika Helfer & Franzobel und der Spielbodenchor feat. Gerald Futs
 cher
DTSTART;TZID=Europe/Berlin:20060919T203000
DTSTAMP:20260421T155342Z
UID:1f2575867b66449ca251061b349ca287@zmi.spielboden.at
CREATED:20120822T144735Z
LAST-MODIFIED:20210809T123842Z
URL:https://zmi.spielboden.at/Plone/veranstaltungen/2006/09_september/2006
 -09-19-20-30-monika-helfer-franzobel-und-der-spielbodenchor-feat-gerald-fu
 tscher
END:VEVENT
BEGIN:VTIMEZONE
TZID:Europe/Berlin
X-LIC-LOCATION:Europe/Berlin
BEGIN:DAYLIGHT
DTSTART:20060326T030000
TZNAME:CEST
TZOFFSETFROM:+0100
TZOFFSETTO:+0200
END:DAYLIGHT
END:VTIMEZONE
END:VCALENDAR
