BEGIN:VCALENDAR
VERSION:2.0
PRODID:-//Plone.org//NONSGML plone.app.event//EN
X-WR-TIMEZONE:Europe/Berlin
BEGIN:VEVENT
SUMMARY:Northern Soul Party
DTSTART;TZID=Europe/Berlin:20060916T210000
DTSTAMP:20260421T233555Z
UID:9c591b2ad91c4713bfd81c9f9741c4d4@zmi.spielboden.at
CREATED:20120822T144739Z
DESCRIPTION:mit DJ Ernesto
LAST-MODIFIED:20120910T114116Z
URL:https://zmi.spielboden.at/Plone/veranstaltungen/2006/09_september/2006
 -09-16-21-00-northern-soul-party
END:VEVENT
BEGIN:VTIMEZONE
TZID:Europe/Berlin
X-LIC-LOCATION:Europe/Berlin
BEGIN:DAYLIGHT
DTSTART:20060326T030000
TZNAME:CEST
TZOFFSETFROM:+0100
TZOFFSETTO:+0200
END:DAYLIGHT
END:VTIMEZONE
END:VCALENDAR
