BEGIN:VCALENDAR
VERSION:2.0
PRODID:-//Plone.org//NONSGML plone.app.event//EN
X-WR-TIMEZONE:Europe/Berlin
BEGIN:VEVENT
SUMMARY:Eröffnung des neu bestuhlten Kinosaals
DTSTART;TZID=Europe/Berlin:20060915T200000
DTSTAMP:20260421T155359Z
UID:550eb4216b6145da838e14a09dd6ebb2@zmi.spielboden.at
CREATED:20120822T144727Z
LAST-MODIFIED:20120910T114114Z
URL:https://zmi.spielboden.at/Plone/veranstaltungen/2006/09_september/2006
 -09-15-20-00-eroeffnung-des-neu-bestuhlten-kinosaals
END:VEVENT
BEGIN:VTIMEZONE
TZID:Europe/Berlin
X-LIC-LOCATION:Europe/Berlin
BEGIN:DAYLIGHT
DTSTART:20060326T030000
TZNAME:CEST
TZOFFSETFROM:+0100
TZOFFSETTO:+0200
END:DAYLIGHT
END:VTIMEZONE
END:VCALENDAR
