BEGIN:VCALENDAR
VERSION:2.0
PRODID:-//Plone.org//NONSGML plone.app.event//EN
X-WR-TIMEZONE:Europe/Berlin
BEGIN:VEVENT
SUMMARY:Johnny Cash Night
DTSTART;TZID=Europe/Berlin:20060909T210000
DTSTAMP:20260421T175225Z
UID:faadb7f416c54833999a0649384f64ae@zmi.spielboden.at
CREATED:20120822T144725Z
LAST-MODIFIED:20120910T114114Z
URL:https://zmi.spielboden.at/Plone/veranstaltungen/2006/09_september/2006
 -09-09-21-00-johnny-cash-night
END:VEVENT
BEGIN:VTIMEZONE
TZID:Europe/Berlin
X-LIC-LOCATION:Europe/Berlin
BEGIN:DAYLIGHT
DTSTART:20060326T030000
TZNAME:CEST
TZOFFSETFROM:+0100
TZOFFSETTO:+0200
END:DAYLIGHT
END:VTIMEZONE
END:VCALENDAR
