BEGIN:VCALENDAR
VERSION:2.0
PRODID:-//Plone.org//NONSGML plone.app.event//EN
X-WR-TIMEZONE:Europe/Berlin
BEGIN:VEVENT
SUMMARY:Salsa Night
DTSTART;TZID=Europe/Berlin:20060907T210000
DTSTAMP:20260421T155111Z
UID:2a92ae7607ba45dd99284c520946d78f@zmi.spielboden.at
CREATED:20120822T144725Z
LAST-MODIFIED:20210809T123840Z
URL:https://zmi.spielboden.at/Plone/veranstaltungen/2006/09_september/2006
 -09-07-21-00-salsa-night
END:VEVENT
BEGIN:VTIMEZONE
TZID:Europe/Berlin
X-LIC-LOCATION:Europe/Berlin
BEGIN:DAYLIGHT
DTSTART:20060326T030000
TZNAME:CEST
TZOFFSETFROM:+0100
TZOFFSETTO:+0200
END:DAYLIGHT
END:VTIMEZONE
END:VCALENDAR
