BEGIN:VCALENDAR
VERSION:2.0
PRODID:-//Plone.org//NONSGML plone.app.event//EN
X-WR-TIMEZONE:Europe/Berlin
BEGIN:VEVENT
SUMMARY:Vortrag - Peter Widmer zum Freud-Jahr 2006
DTSTART;TZID=Europe/Berlin:20060901T200000
DTSTAMP:20260425T150024Z
UID:9f0272cb531346878f5878030b35c25c@zmi.spielboden.at
CREATED:20120822T144724Z
DESCRIPTION:»Das Spiegelbild und seine Metamorphosen. Dimensionen des Kö
 rperbildes«
LAST-MODIFIED:20120910T114114Z
URL:https://zmi.spielboden.at/Plone/veranstaltungen/2006/09_september/2006
 -09-01-20-00-vortrag-peter-widmer-zum-freud-jahr-2006
END:VEVENT
BEGIN:VTIMEZONE
TZID:Europe/Berlin
X-LIC-LOCATION:Europe/Berlin
BEGIN:DAYLIGHT
DTSTART:20060326T030000
TZNAME:CEST
TZOFFSETFROM:+0100
TZOFFSETTO:+0200
END:DAYLIGHT
END:VTIMEZONE
END:VCALENDAR
