BEGIN:VCALENDAR
VERSION:2.0
PRODID:-//Plone.org//NONSGML plone.app.event//EN
X-WR-TIMEZONE:Europe/Berlin
BEGIN:VEVENT
SUMMARY:Salsa Night
DTSTART;TZID=Europe/Berlin:20060830T210000
DTSTAMP:20260421T202030Z
UID:e33b8f4990b34a518754caf8b997def2@zmi.spielboden.at
CREATED:20120822T144718Z
LAST-MODIFIED:20210809T123838Z
URL:https://zmi.spielboden.at/Plone/veranstaltungen/2006/08_august/2006-08
 -30-21-00-salsa-night
END:VEVENT
BEGIN:VTIMEZONE
TZID:Europe/Berlin
X-LIC-LOCATION:Europe/Berlin
BEGIN:DAYLIGHT
DTSTART:20060326T030000
TZNAME:CEST
TZOFFSETFROM:+0100
TZOFFSETTO:+0200
END:DAYLIGHT
END:VTIMEZONE
END:VCALENDAR
