BEGIN:VCALENDAR
VERSION:2.0
PRODID:-//Plone.org//NONSGML plone.app.event//EN
X-WR-TIMEZONE:Europe/Berlin
BEGIN:VEVENT
SUMMARY:Pop & Wave Party
DTSTART;TZID=Europe/Berlin:20060826T210000
DTSTAMP:20260423T190555Z
UID:f1181e8a3d9e4e8fa9614b0723e76a69@zmi.spielboden.at
CREATED:20120822T144716Z
LAST-MODIFIED:20120910T114113Z
URL:https://zmi.spielboden.at/Plone/veranstaltungen/2006/08_august/2006-08
 -26-21-00-pop-wave-party
END:VEVENT
BEGIN:VTIMEZONE
TZID:Europe/Berlin
X-LIC-LOCATION:Europe/Berlin
BEGIN:DAYLIGHT
DTSTART:20060326T030000
TZNAME:CEST
TZOFFSETFROM:+0100
TZOFFSETTO:+0200
END:DAYLIGHT
END:VTIMEZONE
END:VCALENDAR
