BEGIN:VCALENDAR
VERSION:2.0
PRODID:-//Plone.org//NONSGML plone.app.event//EN
X-WR-TIMEZONE:Europe/Berlin
BEGIN:VEVENT
SUMMARY:60/70er Party mit DJ Ernesto
DTSTART;TZID=Europe/Berlin:20060819T210000
DTSTAMP:20260421T203006Z
UID:adcf820528d8482ca0c2a97453ee281a@zmi.spielboden.at
CREATED:20120822T144716Z
LAST-MODIFIED:20120910T114113Z
URL:https://zmi.spielboden.at/Plone/veranstaltungen/2006/08_august/2006-08
 -19-21-00-60-70er-party-mit-dj-ernesto
END:VEVENT
BEGIN:VTIMEZONE
TZID:Europe/Berlin
X-LIC-LOCATION:Europe/Berlin
BEGIN:DAYLIGHT
DTSTART:20060326T030000
TZNAME:CEST
TZOFFSETFROM:+0100
TZOFFSETTO:+0200
END:DAYLIGHT
END:VTIMEZONE
END:VCALENDAR
