BEGIN:VCALENDAR
VERSION:2.0
PRODID:-//Plone.org//NONSGML plone.app.event//EN
X-WR-TIMEZONE:Europe/Berlin
BEGIN:VEVENT
SUMMARY:Northern Soul Party mit DJ Ernesto
DTSTART;TZID=Europe/Berlin:20060729T210000
DTSTAMP:20260425T134903Z
UID:4b20379c7ac9452cb3438d7ec640aff7@zmi.spielboden.at
CREATED:20120822T144711Z
LAST-MODIFIED:20120910T114112Z
URL:https://zmi.spielboden.at/Plone/veranstaltungen/2006/07_juli/2006-07-2
 9-21-00-northern-soul-party-mit-dj-ernesto
END:VEVENT
BEGIN:VTIMEZONE
TZID:Europe/Berlin
X-LIC-LOCATION:Europe/Berlin
BEGIN:DAYLIGHT
DTSTART:20060326T030000
TZNAME:CEST
TZOFFSETFROM:+0100
TZOFFSETTO:+0200
END:DAYLIGHT
END:VTIMEZONE
END:VCALENDAR
