BEGIN:VCALENDAR
VERSION:2.0
PRODID:-//Plone.org//NONSGML plone.app.event//EN
X-WR-TIMEZONE:Europe/Berlin
BEGIN:VEVENT
SUMMARY:Summer Party mit Sax&Crime und Fokuhila
DTSTART;TZID=Europe/Berlin:20060721T210000
DTSTAMP:20260421T155400Z
UID:6d97d4707a1048438abb7cefaa4bc307@zmi.spielboden.at
CREATED:20120822T144710Z
LAST-MODIFIED:20120910T114112Z
URL:https://zmi.spielboden.at/Plone/veranstaltungen/2006/07_juli/2006-07-2
 1-21-00-summer-party-mit-sax-crime-und-fokuhila
END:VEVENT
BEGIN:VTIMEZONE
TZID:Europe/Berlin
X-LIC-LOCATION:Europe/Berlin
BEGIN:DAYLIGHT
DTSTART:20060326T030000
TZNAME:CEST
TZOFFSETFROM:+0100
TZOFFSETTO:+0200
END:DAYLIGHT
END:VTIMEZONE
END:VCALENDAR
