BEGIN:VCALENDAR
VERSION:2.0
PRODID:-//Plone.org//NONSGML plone.app.event//EN
X-WR-TIMEZONE:Europe/Berlin
BEGIN:VEVENT
SUMMARY:Open Air Kino - Crossing the Bridge
DTSTART;TZID=Europe/Berlin:20060716T220000
DTSTAMP:20260421T205617Z
UID:a2725979056049eda63d8757ac681835@zmi.spielboden.at
CREATED:20120822T144707Z
LAST-MODIFIED:20210809T123837Z
URL:https://zmi.spielboden.at/Plone/veranstaltungen/2006/07_juli/2006-07-1
 6-22-00-open-air-kino-crossing-the-bridge
END:VEVENT
BEGIN:VTIMEZONE
TZID:Europe/Berlin
X-LIC-LOCATION:Europe/Berlin
BEGIN:DAYLIGHT
DTSTART:20060326T030000
TZNAME:CEST
TZOFFSETFROM:+0100
TZOFFSETTO:+0200
END:DAYLIGHT
END:VTIMEZONE
END:VCALENDAR
