BEGIN:VCALENDAR
VERSION:2.0
PRODID:-//Plone.org//NONSGML plone.app.event//EN
X-WR-TIMEZONE:Europe/Berlin
BEGIN:VEVENT
SUMMARY:Open Air Kino - Sommer vorm Balkon
DTSTART;TZID=Europe/Berlin:20060714T220000
DTSTAMP:20260421T141838Z
UID:5e4bfc77aa4d4d4795c5b475bd9f9040@zmi.spielboden.at
CREATED:20120822T144708Z
LAST-MODIFIED:20210809T123837Z
URL:https://zmi.spielboden.at/Plone/veranstaltungen/2006/07_juli/2006-07-1
 4-22-00-open-air-kino-sommer-vorm-balkon
END:VEVENT
BEGIN:VTIMEZONE
TZID:Europe/Berlin
X-LIC-LOCATION:Europe/Berlin
BEGIN:DAYLIGHT
DTSTART:20060326T030000
TZNAME:CEST
TZOFFSETFROM:+0100
TZOFFSETTO:+0200
END:DAYLIGHT
END:VTIMEZONE
END:VCALENDAR
