BEGIN:VCALENDAR
VERSION:2.0
PRODID:-//Plone.org//NONSGML plone.app.event//EN
X-WR-TIMEZONE:Europe/Berlin
BEGIN:VEVENT
SUMMARY:Salsa Night
DTSTART;TZID=Europe/Berlin:20060713T210000
DTSTAMP:20260421T204755Z
UID:f3b9b2bca16a43118fc4408022a2c2e8@zmi.spielboden.at
CREATED:20120822T144714Z
LAST-MODIFIED:20210809T123837Z
URL:https://zmi.spielboden.at/Plone/veranstaltungen/2006/07_juli/2006-07-1
 3-21-00-salsa-night
END:VEVENT
BEGIN:VTIMEZONE
TZID:Europe/Berlin
X-LIC-LOCATION:Europe/Berlin
BEGIN:DAYLIGHT
DTSTART:20060326T030000
TZNAME:CEST
TZOFFSETFROM:+0100
TZOFFSETTO:+0200
END:DAYLIGHT
END:VTIMEZONE
END:VCALENDAR
