BEGIN:VCALENDAR
VERSION:2.0
PRODID:-//Plone.org//NONSGML plone.app.event//EN
X-WR-TIMEZONE:Europe/Berlin
BEGIN:VEVENT
SUMMARY:The Frames
DTSTART;TZID=Europe/Berlin:20060712T210000
DTSTAMP:20260422T020505Z
UID:4955f08e62f04dd5a8644cfc73dcee9f@zmi.spielboden.at
CREATED:20120822T144709Z
DESCRIPTION:Support: Speedzone30
LAST-MODIFIED:20210809T123837Z
URL:https://zmi.spielboden.at/Plone/veranstaltungen/2006/07_juli/2006-07-1
 2-21-00-the-frames
END:VEVENT
BEGIN:VTIMEZONE
TZID:Europe/Berlin
X-LIC-LOCATION:Europe/Berlin
BEGIN:DAYLIGHT
DTSTART:20060326T030000
TZNAME:CEST
TZOFFSETFROM:+0100
TZOFFSETTO:+0200
END:DAYLIGHT
END:VTIMEZONE
END:VCALENDAR
