BEGIN:VCALENDAR
VERSION:2.0
PRODID:-//Plone.org//NONSGML plone.app.event//EN
X-WR-TIMEZONE:Europe/Berlin
BEGIN:VEVENT
SUMMARY:60/70 Party mit DJ Ernesto
DTSTART;TZID=Europe/Berlin:20060708T210000
DTSTAMP:20260421T144138Z
UID:889c4d65c0f5478fb3577326926bd695@zmi.spielboden.at
CREATED:20120822T144715Z
LAST-MODIFIED:20120910T114113Z
URL:https://zmi.spielboden.at/Plone/veranstaltungen/2006/07_juli/2006-07-0
 8-21-00-60-70-party-mit-dj-ernesto
END:VEVENT
BEGIN:VTIMEZONE
TZID:Europe/Berlin
X-LIC-LOCATION:Europe/Berlin
BEGIN:DAYLIGHT
DTSTART:20060326T030000
TZNAME:CEST
TZOFFSETFROM:+0100
TZOFFSETTO:+0200
END:DAYLIGHT
END:VTIMEZONE
END:VCALENDAR
