BEGIN:VCALENDAR
VERSION:2.0
PRODID:-//Plone.org//NONSGML plone.app.event//EN
X-WR-TIMEZONE:Europe/Berlin
BEGIN:VEVENT
SUMMARY:Filmfabrik – Junge Filmemacher aus Vorarlberg
DTSTART;TZID=Europe/Berlin:20060707T203000
DTSTAMP:20260421T164344Z
UID:5b17f1a60a0f4d8f87d0d7353589c990@zmi.spielboden.at
CREATED:20120822T144712Z
LAST-MODIFIED:20120910T114112Z
URL:https://zmi.spielboden.at/Plone/veranstaltungen/2006/07_juli/2006-07-0
 7-20-30-filmfabrik-2013-junge-filmemacher-aus-vorarlberg
END:VEVENT
BEGIN:VTIMEZONE
TZID:Europe/Berlin
X-LIC-LOCATION:Europe/Berlin
BEGIN:DAYLIGHT
DTSTART:20060326T030000
TZNAME:CEST
TZOFFSETFROM:+0100
TZOFFSETTO:+0200
END:DAYLIGHT
END:VTIMEZONE
END:VCALENDAR
