BEGIN:VCALENDAR
VERSION:2.0
PRODID:-//Plone.org//NONSGML plone.app.event//EN
X-WR-TIMEZONE:Europe/Berlin
BEGIN:VEVENT
SUMMARY:Salsa Night
DTSTART;TZID=Europe/Berlin:20060706T210000
DTSTAMP:20260421T214633Z
UID:13395b9bdbf34a1281f50695c6a4d8e4@zmi.spielboden.at
CREATED:20120822T144713Z
LAST-MODIFIED:20210809T123837Z
URL:https://zmi.spielboden.at/Plone/veranstaltungen/2006/07_juli/2006-07-0
 6-21-00-salsa-night
END:VEVENT
BEGIN:VTIMEZONE
TZID:Europe/Berlin
X-LIC-LOCATION:Europe/Berlin
BEGIN:DAYLIGHT
DTSTART:20060326T030000
TZNAME:CEST
TZOFFSETFROM:+0100
TZOFFSETTO:+0200
END:DAYLIGHT
END:VTIMEZONE
END:VCALENDAR
