BEGIN:VCALENDAR
VERSION:2.0
PRODID:-//Plone.org//NONSGML plone.app.event//EN
X-WR-TIMEZONE:Europe/Berlin
BEGIN:VEVENT
SUMMARY:tanz ist - Workshop mit Fausto Matias
DTSTART;TZID=Europe/Berlin:20060704T193000
DTSTAMP:20260421T175722Z
UID:b443da4990d34fcd8ed23e6cb728b82d@zmi.spielboden.at
CREATED:20120822T144715Z
LAST-MODIFIED:20210809T123838Z
URL:https://zmi.spielboden.at/Plone/veranstaltungen/2006/07_juli/2006-07-0
 4-19-30-tanz-ist-workshop-mit-fausto-matias
END:VEVENT
BEGIN:VTIMEZONE
TZID:Europe/Berlin
X-LIC-LOCATION:Europe/Berlin
BEGIN:DAYLIGHT
DTSTART:20060326T030000
TZNAME:CEST
TZOFFSETFROM:+0100
TZOFFSETTO:+0200
END:DAYLIGHT
END:VTIMEZONE
END:VCALENDAR
