BEGIN:VCALENDAR
VERSION:2.0
PRODID:-//Plone.org//NONSGML plone.app.event//EN
X-WR-TIMEZONE:Europe/Berlin
BEGIN:VEVENT
SUMMARY:tanz ist - Festival - Fausto Matias
DTSTART;TZID=Europe/Berlin:20060701T203000
DTSTAMP:20260421T182108Z
UID:dcf48e9bd65042eba3f91d9484bcc005@zmi.spielboden.at
CREATED:20120822T144706Z
LAST-MODIFIED:20210809T123836Z
URL:https://zmi.spielboden.at/Plone/veranstaltungen/2006/07_juli/2006-07-0
 1-20-30-tanz-ist-festival-fausto-matias
END:VEVENT
BEGIN:VTIMEZONE
TZID:Europe/Berlin
X-LIC-LOCATION:Europe/Berlin
BEGIN:DAYLIGHT
DTSTART:20060326T030000
TZNAME:CEST
TZOFFSETFROM:+0100
TZOFFSETTO:+0200
END:DAYLIGHT
END:VTIMEZONE
END:VCALENDAR
