BEGIN:VCALENDAR
VERSION:2.0
PRODID:-//Plone.org//NONSGML plone.app.event//EN
X-WR-TIMEZONE:Europe/Berlin
BEGIN:VEVENT
SUMMARY:tanz ist - Festival - Fausto Matias
DTSTART;TZID=Europe/Berlin:20060630T203000
DTSTAMP:20260421T090108Z
UID:af8d80f896984f0ba82b2fa159781472@zmi.spielboden.at
CREATED:20120822T144646Z
LAST-MODIFIED:20210809T123833Z
URL:https://zmi.spielboden.at/Plone/veranstaltungen/2006/06_juni/2006-06-3
 0-20-30-tanz-ist-festival-fausto-matias
END:VEVENT
BEGIN:VTIMEZONE
TZID:Europe/Berlin
X-LIC-LOCATION:Europe/Berlin
BEGIN:DAYLIGHT
DTSTART:20060326T030000
TZNAME:CEST
TZOFFSETFROM:+0100
TZOFFSETTO:+0200
END:DAYLIGHT
END:VTIMEZONE
END:VCALENDAR
