BEGIN:VCALENDAR
VERSION:2.0
PRODID:-//Plone.org//NONSGML plone.app.event//EN
X-WR-TIMEZONE:Europe/Berlin
BEGIN:VEVENT
SUMMARY:tanz ist - Festival - körperherzkörper - Günter Marinelli
DTSTART;TZID=Europe/Berlin:20060630T200000
DTSTAMP:20260421T090836Z
UID:fb7d3fbb9ea94d6fa9a9d0b1e3ad00fe@zmi.spielboden.at
CREATED:20120822T144650Z
LAST-MODIFIED:20210809T123835Z
URL:https://zmi.spielboden.at/Plone/veranstaltungen/2006/06_juni/2006-06-3
 0-20-00-tanz-ist-festival-koerperherzkoerper-guenter-marinelli
END:VEVENT
BEGIN:VTIMEZONE
TZID:Europe/Berlin
X-LIC-LOCATION:Europe/Berlin
BEGIN:DAYLIGHT
DTSTART:20060326T030000
TZNAME:CEST
TZOFFSETFROM:+0100
TZOFFSETTO:+0200
END:DAYLIGHT
END:VTIMEZONE
END:VCALENDAR
