BEGIN:VCALENDAR
VERSION:2.0
PRODID:-//Plone.org//NONSGML plone.app.event//EN
X-WR-TIMEZONE:Europe/Berlin
BEGIN:VEVENT
SUMMARY:tanz ist - Festival - Sebastián García Ferro
DTSTART;TZID=Europe/Berlin:20060628T203000
DTSTAMP:20260421T090958Z
UID:92a483825ede42078685d2b23ebc5dc7@zmi.spielboden.at
CREATED:20120822T144655Z
LAST-MODIFIED:20210809T123836Z
URL:https://zmi.spielboden.at/Plone/veranstaltungen/2006/06_juni/2006-06-2
 8-20-30-tanz-ist-festival-sebastian-garcia-ferro
END:VEVENT
BEGIN:VTIMEZONE
TZID:Europe/Berlin
X-LIC-LOCATION:Europe/Berlin
BEGIN:DAYLIGHT
DTSTART:20060326T030000
TZNAME:CEST
TZOFFSETFROM:+0100
TZOFFSETTO:+0200
END:DAYLIGHT
END:VTIMEZONE
END:VCALENDAR
