BEGIN:VCALENDAR
VERSION:2.0
PRODID:-//Plone.org//NONSGML plone.app.event//EN
X-WR-TIMEZONE:Europe/Berlin
BEGIN:VEVENT
SUMMARY:tanz ist - Festival - Kazuo Ohno – Ich tanze ins Licht
DTSTART;TZID=Europe/Berlin:20060627T203000
DTSTAMP:20260421T042348Z
UID:1d91b69c82db431184c9ba162ef15815@zmi.spielboden.at
CREATED:20120822T144651Z
LAST-MODIFIED:20210809T123835Z
URL:https://zmi.spielboden.at/Plone/veranstaltungen/2006/06_juni/2006-06-2
 7-20-30-tanz-ist-festival-kazuo-ohno-2013-ich-tanze-ins-licht
END:VEVENT
BEGIN:VTIMEZONE
TZID:Europe/Berlin
X-LIC-LOCATION:Europe/Berlin
BEGIN:DAYLIGHT
DTSTART:20060326T030000
TZNAME:CEST
TZOFFSETFROM:+0100
TZOFFSETTO:+0200
END:DAYLIGHT
END:VTIMEZONE
END:VCALENDAR
