BEGIN:VCALENDAR
VERSION:2.0
PRODID:-//Plone.org//NONSGML plone.app.event//EN
X-WR-TIMEZONE:Europe/Berlin
BEGIN:VEVENT
SUMMARY:tanz ist - Festival - liquid loft | Chris Haring
DTSTART;TZID=Europe/Berlin:20060624T203000
DTSTAMP:20260421T042246Z
UID:3abc8e6a4a8549e2856ae15181fca976@zmi.spielboden.at
CREATED:20120822T144647Z
LAST-MODIFIED:20210809T123834Z
URL:https://zmi.spielboden.at/Plone/veranstaltungen/2006/06_juni/2006-06-2
 4-20-30-tanz-ist-festival-liquid-loft-chris-haring
END:VEVENT
BEGIN:VTIMEZONE
TZID:Europe/Berlin
X-LIC-LOCATION:Europe/Berlin
BEGIN:DAYLIGHT
DTSTART:20060326T030000
TZNAME:CEST
TZOFFSETFROM:+0100
TZOFFSETTO:+0200
END:DAYLIGHT
END:VTIMEZONE
END:VCALENDAR
