BEGIN:VCALENDAR
VERSION:2.0
PRODID:-//Plone.org//NONSGML plone.app.event//EN
X-WR-TIMEZONE:Europe/Berlin
BEGIN:VEVENT
SUMMARY:tanz ist - Festival - körperherzkörper - Günter Marinelli
DTSTART;TZID=Europe/Berlin:20060624T200000
DTSTAMP:20260421T042245Z
UID:2cc7b4a152544ed5ac3ed767da711ad0@zmi.spielboden.at
CREATED:20120822T144648Z
LAST-MODIFIED:20210809T123834Z
URL:https://zmi.spielboden.at/Plone/veranstaltungen/2006/06_juni/2006-06-2
 4-20-00-tanz-ist-festival-koerperherzkoerper-guenter-marinelli
END:VEVENT
BEGIN:VTIMEZONE
TZID:Europe/Berlin
X-LIC-LOCATION:Europe/Berlin
BEGIN:DAYLIGHT
DTSTART:20060326T030000
TZNAME:CEST
TZOFFSETFROM:+0100
TZOFFSETTO:+0200
END:DAYLIGHT
END:VTIMEZONE
END:VCALENDAR
